BEGIN:VCALENDAR
VERSION:2.0
PRODID:-//NHS-NEQAS - ECPv6.15.20//NONSGML v1.0//EN
CALSCALE:GREGORIAN
METHOD:PUBLISH
X-ORIGINAL-URL:https://nhs-neqas.com
X-WR-CALDESC:Events for NHS-NEQAS
REFRESH-INTERVAL;VALUE=DURATION:PT1H
X-Robots-Tag:noindex
X-PUBLISHED-TTL:PT1H
BEGIN:VTIMEZONE
TZID:UTC
BEGIN:STANDARD
TZOFFSETFROM:+0000
TZOFFSETTO:+0000
TZNAME:UTC
DTSTART:20230101T000000
END:STANDARD
END:VTIMEZONE
BEGIN:VEVENT
DTSTART;VALUE=DATE:20241215
DTEND;VALUE=DATE:20241216
DTSTAMP:20260424T211104
CREATED:20231226T114524Z
LAST-MODIFIED:20241202T150442Z
UID:1623-1734220800-1734307199@nhs-neqas.com
SUMMARY:Result Upload
DESCRIPTION:Round 11 = Result’s Upload for General Chemistry\, Immunoassay\, Serology\, Coagulation\, HBA1c and Hematology \nRound 2 = Results Upload for Molecular
URL:https://nhs-neqas.com/event/hematology-cycle-1-sample-12-results-upload/
END:VEVENT
BEGIN:VEVENT
DTSTART;VALUE=DATE:20241203
DTEND;VALUE=DATE:20241204
DTSTAMP:20260424T211104
CREATED:20231006T101847Z
LAST-MODIFIED:20241202T142932Z
UID:1331-1733184000-1733270399@nhs-neqas.com
SUMMARY:Dispatch of Samples
DESCRIPTION:Round 11 = Samples for Clinical Chemistry\, Hematology\, Serology\, Coagulation\, HBA1c and Immunoassay \nRound 2 = Samples for Molecular
URL:https://nhs-neqas.com/event/clinical-chemistry-cycle-2-sample-12-results-upload/
END:VEVENT
BEGIN:VEVENT
DTSTART;VALUE=DATE:20241104
DTEND;VALUE=DATE:20241105
DTSTAMP:20260424T211104
CREATED:20231226T114426Z
LAST-MODIFIED:20241014T060358Z
UID:1621-1730678400-1730764799@nhs-neqas.com
SUMMARY:Result's Upload - Round 10
DESCRIPTION:General Chemistry\, Immunoassay\, Hematology\, Coagulation and Serology + HBA1c
URL:https://nhs-neqas.com/event/hematology-cycle-1-sample-11-results-upload/
END:VEVENT
BEGIN:VEVENT
DTSTART;VALUE=DATE:20241021
DTEND;VALUE=DATE:20241022
DTSTAMP:20260424T211104
CREATED:20231006T101757Z
LAST-MODIFIED:20241014T060712Z
UID:1329-1729468800-1729555199@nhs-neqas.com
SUMMARY:Dispatch of Sample – Round 10
DESCRIPTION:Dispatch of samples for General Chemistry\, Immunoassay\, Hematology\, Coagulation\, Serology and HBA1c (Round 2).
URL:https://nhs-neqas.com/event/immunoassay-cycle-2-sample-11-results-upload/
END:VEVENT
BEGIN:VEVENT
DTSTART;VALUE=DATE:20241004
DTEND;VALUE=DATE:20241005
DTSTAMP:20260424T211104
CREATED:20231006T101557Z
LAST-MODIFIED:20240913T101321Z
UID:1325-1728000000-1728086399@nhs-neqas.com
SUMMARY:Result’s Upload – Round 9
DESCRIPTION:General Chemistry\, Immunoassay\, Hematology\, Coagulation and Serology
URL:https://nhs-neqas.com/event/immunoassay-cycle-2-sample-10-results-upload/
END:VEVENT
BEGIN:VEVENT
DTSTART;VALUE=DATE:20240920
DTEND;VALUE=DATE:20240921
DTSTAMP:20260424T211104
CREATED:20231226T114259Z
LAST-MODIFIED:20240913T100907Z
UID:1619-1726790400-1726876799@nhs-neqas.com
SUMMARY:Dispatch of Sample - Round 9
DESCRIPTION:General Chemistry\, Immunoassay\, Hematology\, Coagulation and Serology
URL:https://nhs-neqas.com/event/hematology-cycle-1-sample-10-results-upload/
END:VEVENT
BEGIN:VEVENT
DTSTART;VALUE=DATE:20240919
DTEND;VALUE=DATE:20240920
DTSTAMP:20260424T211104
CREATED:20231006T101049Z
LAST-MODIFIED:20240913T093526Z
UID:1317-1726704000-1726790399@nhs-neqas.com
SUMMARY:Result’s Upload – Round 8
DESCRIPTION:General Chemistry\, Immunoassay\, Hematology\, Coagulation and Serology
URL:https://nhs-neqas.com/event/immunoassay-cycle-2-sample-08-results-upload/
END:VEVENT
BEGIN:VEVENT
DTSTART;VALUE=DATE:20240904
DTEND;VALUE=DATE:20240905
DTSTAMP:20260424T211104
CREATED:20231226T114216Z
LAST-MODIFIED:20240905T213649Z
UID:1617-1725408000-1725494399@nhs-neqas.com
SUMMARY:Molecular Result's Upload - Round 1
DESCRIPTION:Molecular HBV and HCV
URL:https://nhs-neqas.com/event/molecular-results-upload-round-1/
END:VEVENT
BEGIN:VEVENT
DTSTART;VALUE=DATE:20240830
DTEND;VALUE=DATE:20240831
DTSTAMP:20260424T211104
CREATED:20231226T114130Z
LAST-MODIFIED:20240905T213750Z
UID:1615-1724976000-1725062399@nhs-neqas.com
SUMMARY:Dispatch of Sample – Round 8
DESCRIPTION:General Chemistry\, Immunoassay\, Hematology\, Coagulation and Serology
URL:https://nhs-neqas.com/event/hematology-cycle-1-sample-8-results-upload/
END:VEVENT
BEGIN:VEVENT
DTSTART;VALUE=DATE:20240812
DTEND;VALUE=DATE:20240813
DTSTAMP:20260424T211104
CREATED:20240808T101152Z
LAST-MODIFIED:20240809T011337Z
UID:1319-1723420800-1723507199@nhs-neqas.com
SUMMARY:Molecular Dispatch of Sample - Round 1
DESCRIPTION:Molecular HBV and HCV
URL:https://nhs-neqas.com/event/clinical-chemistry-cycle-2-sample-09-results-upload/
END:VEVENT
BEGIN:VEVENT
DTSTART;VALUE=DATE:20240810
DTEND;VALUE=DATE:20240811
DTSTAMP:20260424T211104
CREATED:20231226T114039Z
LAST-MODIFIED:20240801T125246Z
UID:1613-1723248000-1723334399@nhs-neqas.com
SUMMARY:Result's Upload - Round 7
DESCRIPTION:General Chemistry\, Immunoassay\, Hematology\, Coagulation and Serology
URL:https://nhs-neqas.com/event/hematology-cycle-1-sample-7-results-upload/
END:VEVENT
BEGIN:VEVENT
DTSTART;VALUE=DATE:20240730
DTEND;VALUE=DATE:20240731
DTSTAMP:20260424T211104
CREATED:20231006T100609Z
LAST-MODIFIED:20240809T010349Z
UID:1311-1722297600-1722383999@nhs-neqas.com
SUMMARY:Dispatch of Sample - Round 7
DESCRIPTION:General Chemistry\, Immunoassay\, Hematology\, Coagulation and Serology
URL:https://nhs-neqas.com/event/clinical-chemistry-cycle-2-sample-07-results-upload/
END:VEVENT
BEGIN:VEVENT
DTSTART;VALUE=DATE:20240709
DTEND;VALUE=DATE:20240710
DTSTAMP:20260424T211104
CREATED:20231006T100317Z
LAST-MODIFIED:20240708T171119Z
UID:1309-1720483200-1720569599@nhs-neqas.com
SUMMARY:Results Upload - Round 6
DESCRIPTION:General Chemistry\, Immunoassay\, Hematology\, Serology and Coagulation
URL:https://nhs-neqas.com/event/immunoassay-cycle-2-sample-06-results-upload/
END:VEVENT
BEGIN:VEVENT
DTSTART;VALUE=DATE:20240624
DTEND;VALUE=DATE:20240625
DTSTAMP:20260424T211104
CREATED:20231226T113813Z
LAST-MODIFIED:20240525T110608Z
UID:1610-1719187200-1719273599@nhs-neqas.com
SUMMARY:Dispatch of Sample Round 6
DESCRIPTION:General Chemistry\, Immunoassay\, Hematology\, Serology and Coagulation
URL:https://nhs-neqas.com/event/hematology-cycle-1-sample-6-results-upload/
END:VEVENT
BEGIN:VEVENT
DTSTART;VALUE=DATE:20240608
DTEND;VALUE=DATE:20240609
DTSTAMP:20260424T211104
CREATED:20231226T113721Z
LAST-MODIFIED:20240525T110048Z
UID:1608-1717804800-1717891199@nhs-neqas.com
SUMMARY:Result's Upload - Sample 5
DESCRIPTION:General Chemistry\, Immunoassay\, Hematology\, Serology and Coagulation
URL:https://nhs-neqas.com/event/hematology-cycle-1-sample-5-results-upload/
END:VEVENT
BEGIN:VEVENT
DTSTART;VALUE=DATE:20240527
DTEND;VALUE=DATE:20240528
DTSTAMP:20260424T211104
CREATED:20231006T095746Z
LAST-MODIFIED:20240525T105607Z
UID:1303-1716768000-1716854399@nhs-neqas.com
SUMMARY:Dispatch of Samples - Round 5
DESCRIPTION:General Chemistry\, Immunoassay\, Hematology\, Serology and Coagulation
URL:https://nhs-neqas.com/event/immunoassay-cycle-2-sample-05-results-upload/
END:VEVENT
BEGIN:VEVENT
DTSTART;VALUE=DATE:20240503
DTEND;VALUE=DATE:20240504
DTSTAMP:20260424T211104
CREATED:20231226T113528Z
LAST-MODIFIED:20240422T190808Z
UID:1606-1714694400-1714780799@nhs-neqas.com
SUMMARY:Results Upload - Round 4
DESCRIPTION:Chemistry\, Immunoassay\, Hematology\, Serology and Coagulation
URL:https://nhs-neqas.com/event/hematology-cycle-1-sample-4-results-upload/
END:VEVENT
BEGIN:VEVENT
DTSTART;VALUE=DATE:20240422
DTEND;VALUE=DATE:20240423
DTSTAMP:20260424T211104
CREATED:20231006T095200Z
LAST-MODIFIED:20240416T073235Z
UID:1297-1713744000-1713830399@nhs-neqas.com
SUMMARY:Dispatch of Samples - Round 4
DESCRIPTION:Chemistry\, Immunoassay\, Hematology\, Serology and Coagulation
URL:https://nhs-neqas.com/event/clinical-chemistry-cycle-2-sample-04-results-upload/
END:VEVENT
BEGIN:VEVENT
DTSTART;VALUE=DATE:20240406
DTEND;VALUE=DATE:20240407
DTSTAMP:20260424T211104
CREATED:20231226T113444Z
LAST-MODIFIED:20240320T081244Z
UID:1604-1712361600-1712447999@nhs-neqas.com
SUMMARY:Result's Upload
DESCRIPTION:Chemistry\, Immunoassay\, Hematology\, Serology and Coagulation
URL:https://nhs-neqas.com/event/hematology-cycle-1-sample-3-results-upload/
END:VEVENT
BEGIN:VEVENT
DTSTART;VALUE=DATE:20240325
DTEND;VALUE=DATE:20240326
DTSTAMP:20260424T211104
CREATED:20231006T094735Z
LAST-MODIFIED:20240320T081704Z
UID:1293-1711324800-1711411199@nhs-neqas.com
SUMMARY:Dispatch of Samples - Round 3
DESCRIPTION:General Chemistry\, Immunoassay\, Hematology\, Serology and Coagulation
URL:https://nhs-neqas.com/event/clinical-chemistry-cycle-2-sample-03-results-upload/
END:VEVENT
BEGIN:VEVENT
DTSTART;VALUE=DATE:20240309
DTEND;VALUE=DATE:20240310
DTSTAMP:20260424T211104
CREATED:20231226T113356Z
LAST-MODIFIED:20240302T081632Z
UID:1602-1709942400-1710028799@nhs-neqas.com
SUMMARY:Result's Upload
DESCRIPTION:Result Upload for Chem\, Immuno\, Hema\, Serology and Coagulation EQA Sample 02
URL:https://nhs-neqas.com/event/hematology-cycle-1-sample-2-results-upload/
END:VEVENT
BEGIN:VEVENT
DTSTART;VALUE=DATE:20240226
DTEND;VALUE=DATE:20240227
DTSTAMP:20260424T211104
CREATED:20231229T132657Z
LAST-MODIFIED:20240220T164342Z
UID:1630-1708905600-1708991999@nhs-neqas.com
SUMMARY:Dispatch of Sample
DESCRIPTION:Dispatch of Samples for EQA Programs of Chem\, Immuno\, Hema\, Serology and Coagulation
URL:https://nhs-neqas.com/event/dispatch-of-sample/
END:VEVENT
BEGIN:VEVENT
DTSTART;VALUE=DATE:20240217
DTEND;VALUE=DATE:20240218
DTSTAMP:20260424T211104
CREATED:20240130T080211Z
LAST-MODIFIED:20240220T165451Z
UID:1663-1708128000-1708214399@nhs-neqas.com
SUMMARY:Result Upload
DESCRIPTION:Result Upload of Sample 1 for Serology
URL:https://nhs-neqas.com/event/result-upload/
END:VEVENT
BEGIN:VEVENT
DTSTART;VALUE=DATE:20240207
DTEND;VALUE=DATE:20240208
DTSTAMP:20260424T211104
CREATED:20240130T194756Z
LAST-MODIFIED:20240130T194835Z
UID:1665-1707264000-1707350399@nhs-neqas.com
SUMMARY:Result Upload
DESCRIPTION:Results Upload for the Coagulation Cycle 1 Round 1 QA Samples
URL:https://nhs-neqas.com/event/result-upload-2/
END:VEVENT
BEGIN:VEVENT
DTSTART;VALUE=DATE:20240205
DTEND;VALUE=DATE:20240206
DTSTAMP:20260424T211104
CREATED:20231006T090710Z
LAST-MODIFIED:20240220T165626Z
UID:1285-1707091200-1707177599@nhs-neqas.com
SUMMARY:Result's Upload
DESCRIPTION:Results Upload for Sample 1 of Chemistry\, Immunoassay and Hematology
URL:https://nhs-neqas.com/event/immunoassay-cycle-2-sample-01-results-upload/
END:VEVENT
END:VCALENDAR